BEGIN:VCALENDAR
VERSION:2.0
PRODID:-//217.160.0.23//NONSGML kigkonsult.se iCalcreator 2.20//
CALSCALE:GREGORIAN
METHOD:PUBLISH
X-WR-TIMEZONE:UTC
BEGIN:VEVENT
UID:event1046@Förderverein Stadtbibliothek Rottenburg
DTSTAMP:20260423T035658Z
CATEGORIES:allgemeine Veranstaltung
DESCRIPTION:Jontef (AUSGEBUCHT)\nKategorie: allgemeine Veranstaltung\nICS-L
 ink: https://www.foerderverein-stadtbibliothek-rottenburg.de/index.php?opt
 ion=com_jem&view=event&id=1046:klezmer-konzert-jontef\n
DTSTART;VALUE=DATE:20231013
DTEND;VALUE=DATE:20231014
LOCATION:Café Stadtgespräch\,Königstraße 2\,72108 Rottenburg
SUMMARY:Jontef (AUSGEBUCHT)
URL:https://www.foerderverein-stadtbibliothek-rottenburg.de/index.php?optio
 n=com_jem&view=event&id=1046:klezmer-konzert-jontef
END:VEVENT
END:VCALENDAR
