BEGIN:VCALENDAR
VERSION:2.0
PRODID:-//217.160.0.23//NONSGML kigkonsult.se iCalcreator 2.20//
CALSCALE:GREGORIAN
METHOD:PUBLISH
X-WR-TIMEZONE:UTC
BEGIN:VEVENT
UID:event1016@Förderverein Stadtbibliothek Rottenburg
DTSTAMP:20260423T111314Z
CATEGORIES:allgemeine Veranstaltung
DESCRIPTION:Schwatz in der Stadtbibliothek\nKategorie: allgemeine Veranstal
 tung\nICS-Link: https://www.foerderverein-stadtbibliothek-rottenburg.de/in
 dex.php?option=com_jem&view=event&id=1016\n
DTSTART:20230706T143000Z
DTEND:20230706T143000Z
LOCATION:Café Stadtgespräch\,Königstraße 2\,72108 Rottenburg
SUMMARY:Schwatz in der Stadtbibliothek
URL:https://www.foerderverein-stadtbibliothek-rottenburg.de/index.php?optio
 n=com_jem&view=event&id=1016
END:VEVENT
END:VCALENDAR
