BEGIN:VCALENDAR
VERSION:2.0
PRODID:-//217.160.0.23//NONSGML kigkonsult.se iCalcreator 2.20//
CALSCALE:GREGORIAN
METHOD:PUBLISH
X-WR-TIMEZONE:UTC
BEGIN:VEVENT
UID:event1010@Förderverein Stadtbibliothek Rottenburg
DTSTAMP:20260423T000538Z
CATEGORIES:allgemeine Veranstaltung
DESCRIPTION:Walle Sayer: Das Zusammenfalten der Welt\, Gedichte und Musik\n
 Kategorie: allgemeine Veranstaltung\nICS-Link: https://www.foerderverein-s
 tadtbibliothek-rottenburg.de/index.php?option=com_jem&view=event&id=1010:w
 alle-sayer-das-zusammenfalten-der-welt-gedichte-und-musik\n
DTSTART:20230511T193000Z
DTEND:20230511T193000Z
LOCATION:Café Stadtgespräch\,Königstraße 2\,72108 Rottenburg
SUMMARY:Walle Sayer: Das Zusammenfalten der Welt\, Gedichte und Musik
URL:https://www.foerderverein-stadtbibliothek-rottenburg.de/index.php?optio
 n=com_jem&view=event&id=1010:walle-sayer-das-zusammenfalten-der-welt-gedic
 hte-und-musik
END:VEVENT
END:VCALENDAR
