BEGIN:VCALENDAR
VERSION:2.0
PRODID:-//217.160.0.23//NONSGML kigkonsult.se iCalcreator 2.20//
CALSCALE:GREGORIAN
METHOD:PUBLISH
X-WR-TIMEZONE:UTC
BEGIN:VEVENT
UID:event1001@Förderverein Stadtbibliothek Rottenburg
DTSTAMP:20260422T233425Z
CATEGORIES:allgemeine Veranstaltung
DESCRIPTION:Ihr Herren werdet euch über mich wundern - ein Frauenschicksal 
 im 30jährigen Krieg\nKategorie: allgemeine Veranstaltung\nICS-Link: https:
 //www.foerderverein-stadtbibliothek-rottenburg.de/index.php?option=com_jem
 &view=event&id=1001\n
DTSTART:20230324T193000Z
DTEND:20230324T193000Z
LOCATION:Café Stadtgespräch\,Königstraße 2\,72108 Rottenburg
SUMMARY:Ihr Herren werdet euch über mich wundern - ein Frauenschicksal im 3
 0jährigen Krieg
URL:https://www.foerderverein-stadtbibliothek-rottenburg.de/index.php?optio
 n=com_jem&view=event&id=1001
END:VEVENT
END:VCALENDAR
